BEGIN:VCALENDAR
VERSION:2.0
PRODID:-//Enjoy Jazz - ECPv6.15.20//NONSGML v1.0//EN
CALSCALE:GREGORIAN
METHOD:PUBLISH
X-WR-CALNAME:Enjoy Jazz
X-ORIGINAL-URL:https://enjoyjazz.de
X-WR-CALDESC:Veranstaltungen für Enjoy Jazz
REFRESH-INTERVAL;VALUE=DURATION:PT1H
X-Robots-Tag:noindex
X-PUBLISHED-TTL:PT1H
BEGIN:VTIMEZONE
TZID:Europe/Berlin
BEGIN:DAYLIGHT
TZOFFSETFROM:+0100
TZOFFSETTO:+0200
TZNAME:CEST
DTSTART:20250330T010000
END:DAYLIGHT
BEGIN:STANDARD
TZOFFSETFROM:+0200
TZOFFSETTO:+0100
TZNAME:CET
DTSTART:20251026T010000
END:STANDARD
BEGIN:DAYLIGHT
TZOFFSETFROM:+0100
TZOFFSETTO:+0200
TZNAME:CEST
DTSTART:20260329T010000
END:DAYLIGHT
BEGIN:STANDARD
TZOFFSETFROM:+0200
TZOFFSETTO:+0100
TZNAME:CET
DTSTART:20261025T010000
END:STANDARD
BEGIN:DAYLIGHT
TZOFFSETFROM:+0100
TZOFFSETTO:+0200
TZNAME:CEST
DTSTART:20270328T010000
END:DAYLIGHT
BEGIN:STANDARD
TZOFFSETFROM:+0200
TZOFFSETTO:+0100
TZNAME:CET
DTSTART:20271031T010000
END:STANDARD
END:VTIMEZONE
BEGIN:VEVENT
DTSTART;TZID=Europe/Berlin:20261031T190000
DTEND;TZID=Europe/Berlin:20261031T213000
DTSTAMP:20260420T144617
CREATED:20260409T080050Z
LAST-MODIFIED:20260409T140834Z
UID:10000434-1793473200-1793482200@enjoyjazz.de
SUMMARY:Olga Reznichenko
DESCRIPTION:Von Modern- bis Punk-Jazz: In diesem Jahr erhält die in Russland geborene und in Berlin und Leipzig lebende Pianistin Olga Reznichenko den mit 15.000 Euro dotierten SWR-Jazzpreis. Reznichenko gilt als eine der spannendsten Nachwuchstalente des deutschen Jazz. Mit ihren eigenen Ensembles\, wie mit ihrem Trio O.R.T oder im „White-Reznichenko Quintett“\, als Solistin oder als gefragte Sidemusikerin. Im Jury-Statement heißt es: „Mit Olga Reznichenko wird in diesem Jahr eine Künstlerin geehrt\, deren Musikdenken so unkonventionell wie traditionsbewusst ist: Pianistisch souverän und intensiv ist ihr Spiel an Klavier\, Keyboard und Keytar\, furios ihr Umgang mit hochkomplexen Rhythmen und eindrücklich ihre klangliche Gestaltungsfantasie.“ Beim Preisträgerin-Konzert wird sie im Rahmen von Enjoy Jazz im BASF Gesellschaftshaus ein neues\, speziell für diesen Anlass zusammengestelltes Projekt präsentieren.
URL:https://enjoyjazz.de/veranstaltung/olga-reznichenko/
LOCATION:BASF Gesellschaftshaus\, Anilinstraße (Parkplatz)\, Ludwigshafen\, 67063\, Deutschland
CATEGORIES:BASF,Enjoy Jazz 2026
ATTACH;FMTTYPE=image/jpeg:https://enjoyjazz.de/wp-content/uploads/2026/04/olga_portraite_brigita_kasperaite_5_small-scaled.jpg
END:VEVENT
BEGIN:VEVENT
DTSTART;TZID=Europe/Berlin:20261031T200000
DTEND;TZID=Europe/Berlin:20261031T213000
DTSTAMP:20260420T144617
CREATED:20260305T230135Z
LAST-MODIFIED:20260312T133142Z
UID:10000422-1793476800-1793482200@enjoyjazz.de
SUMMARY:The Messthetics and James Brandon Lewis
DESCRIPTION:„Deface the Currency“ ist das zweite gemeinsame Album von The Messthetics und James Brandon Lewis. Entstanden im Sommer 2025 während einer Tour\, folgte die Band dem Impuls von Schlagzeuger Brendan Canty\, die gewachsene Live-Chemie unmittelbar im Studio festzuhalten. Nach ihrem gefeierten Debüt bei Impulse! zeigt das Quartett nun noch mehr Risikofreude und Geschlossenheit. In sieben dichten Tracks verbinden sich Lewis’ expressiver Saxophonton und die energiegeladene Rhythmusarbeit von Canty\, Joe Lally (beide Mitglieder der Post-Hardcore-Band Fugazi) und Anthony Pirog zu einer Musik\, die Konventionen hinterfragt. Bei Enjoy Jazz stellt das Quartett die Songs seines aktuellen Werks nun live in der Metropolregion vor.
URL:https://enjoyjazz.de/veranstaltung/the-messthetics-and-james-brandon-lewis/
LOCATION:Metropolink’s Commissary\, South Gettysburg Avenue 46\, Heidelberg\, Baden-Württemberg\, 69124\, Deutschland
CATEGORIES:Enjoy Jazz 2026
ATTACH;FMTTYPE=image/jpeg:https://enjoyjazz.de/wp-content/uploads/2026/03/2026_10_31_The-Messthetics-and-James-Brandon-Lewis_c_Diona-Mavis-_small-scaled.jpg
END:VEVENT
BEGIN:VEVENT
DTSTART;TZID=Europe/Berlin:20261101T200000
DTEND;TZID=Europe/Berlin:20261101T213000
DTSTAMP:20260420T144617
CREATED:20251219T072040Z
LAST-MODIFIED:20260202T135321Z
UID:10000404-1793563200-1793568600@enjoyjazz.de
SUMMARY:Sullivan Fortner Trio
DESCRIPTION:Seit mehr als einem Jahrzehnt beweist Sullivan Fortner in verschiedenen Konstellationen und Projekten sein Talent als Pianist\, Komponist\, Bandleader und kompromissloser Individualist. Der Grammy-Gewinner und Preisträger des Larry J. Bell Jazz Artist Award 2026 hat sich als Bandleader und engagierter Kollaborateur international einen Namen gemacht. Er arbeitete u.a. schon mit Wynton Marsalis\, Paul Simon\, Diane Reeves\, Etienne Charles und John Scofield zusammen. Zu seinen häufigen und langjährigen Mitstreitern zählen Ambrose Akinmusire\, Dee Dee Bridgewater\, Gary Bartz und Fred Hersch. Mit seinem Trio gewann Fortner den DownBeat Critics Poll 2024 in der Kategorie „Rising Star Jazz Group“ und 2026 den Grammy in der Kategorie Bestes Jazz-Instrumentalalbum.
URL:https://enjoyjazz.de/veranstaltung/sullivan-fortner-trio/
LOCATION:Alte Aula\, Grabenstraße 1\, Heidelberg\, Baden-Württemberg\, 69117\, Deutschland
CATEGORIES:Enjoy Jazz 2026
ATTACH;FMTTYPE=image/jpeg:https://enjoyjazz.de/wp-content/uploads/2025/12/2026_11_01_Sullivan-Fortner_c_John_Abbott-scaled.jpg
END:VEVENT
BEGIN:VEVENT
DTSTART;TZID=Europe/Berlin:20261103T200000
DTEND;TZID=Europe/Berlin:20261103T213000
DTSTAMP:20260420T144617
CREATED:20260410T082225Z
LAST-MODIFIED:20260410T082902Z
UID:10000435-1793736000-1793741400@enjoyjazz.de
SUMMARY:Theo Croker: Miles Davis Mixtape feat. Gary Bartz and Ego Ella May
DESCRIPTION:Welche Stücke würden Sie auf ein Miles Davis Mixtape packen? Der visionäre US-amerikanische Trompeter\, Komponist und Produzent Theo Croker beantwortet diese Frage live und würdigt so den 100. Geburtstag und das Vermächtnis des von ihm verehrten Jazz-Giganten. Begleitet wird Croker dabei von der preisgekrönten Singer-Songwriterin Ego Ella May und dem zweifachen Grammy-Gewinner Gary Bartz am Saxofon. Lassen Sie sich begeistern von der Neuinterpretation von Klassikern und weniger bekannten Stücken von Miles Davis und gewinnen so einen Eindruck davon\, wie dieser große Künstler mit seinem Werk andere Musiker:innen geprägt hat.
URL:https://enjoyjazz.de/veranstaltung/theo-croker-miles-davis-mixtape-feat-gary-bartz-and-ego-ella-may/
LOCATION:Saalbau\, Bahnhofstraße 1\, Neustadt an der Weinstraße\, Rheinland-Pfalz\, 67434\, Deutschland
CATEGORIES:Enjoy Jazz 2026
ATTACH;FMTTYPE=image/webp:https://enjoyjazz.de/wp-content/uploads/2026/04/Theo_Croker_TEMPORAeR.webp
END:VEVENT
BEGIN:VEVENT
DTSTART;TZID=Europe/Berlin:20261104T200000
DTEND;TZID=Europe/Berlin:20261104T213000
DTSTAMP:20260420T144617
CREATED:20251209T150054Z
LAST-MODIFIED:20251218T103338Z
UID:10000405-1793822400-1793827800@enjoyjazz.de
SUMMARY:Zohar & Adam
DESCRIPTION:Zohar & Adam Cabo zählen zu den spannendsten neuen Entdeckungen im Jazz. Mit Zohar an den Keyboards und Adam am Schlagzeug bringt das junge Brüder-Duo eine beeindruckende musikalische Reife auf die Bühne\, die das Ergebnis eines von Musik geprägten Lebens ist. Als Kinder des früheren Latin-Bigband-Leiters Richard Cabo und der israelischen Bassistin\, Produzentin und Pädagogin Dassi Rosenkrantz standen die Brüder – gemeinsam mit ihrer Schwester Noga – schon vor ihrem zehnten Lebensjahr auf der Bühne und nahmen als Familienband ein Album in den legendären Sun Studios in Memphis auf. Während der Pandemie fanden sich die beiden als Schüler im gemeinsamen Lockdown wieder – die Geburtsstunde eines neuen kreativen Weges. Auf ihrem Debütalbum “Osmosis”\, das im Frühjahr 2025 erschien\, verschmelzen Zohar & Adam Elemente aus progressivem Jazz\, Latin\, Hip-Hop und Weltmusik zu einem ganz eigenen Klangbild. Ihre intensive musikalische Verbindung erinnert an Größen wie Chick Corea oder Weather Report.
URL:https://enjoyjazz.de/veranstaltung/zohar-adam/
LOCATION:Metropolink’s Commissary\, South Gettysburg Avenue 46\, Heidelberg\, Baden-Württemberg\, 69124\, Deutschland
CATEGORIES:Enjoy Jazz 2026
ATTACH;FMTTYPE=image/jpeg:https://enjoyjazz.de/wp-content/uploads/2025/12/2026_11_04_Zohar-Adam_2_web-scaled.jpg
END:VEVENT
BEGIN:VEVENT
DTSTART;TZID=Europe/Berlin:20261105T200000
DTEND;TZID=Europe/Berlin:20261105T213000
DTSTAMP:20260420T144617
CREATED:20260213T090052Z
LAST-MODIFIED:20260212T133855Z
UID:10000415-1793908800-1793914200@enjoyjazz.de
SUMMARY:Melody Gardot
DESCRIPTION:Den Beginn ihrer Karriere markiert ein tragisches Ereignis. 2003 war Melody Gardot in Philadelphia mit dem Fahrrad unterwegs\, als ihr der Halter eines SUV die Vorfahrt nahm und nach dem Zusammenstoß Fahrerflucht beging. Mit schweren Kopf- und Wirbelsäulenverletzungen und einen mehrfachen Beckenbruch wurde die Sängerin ins Krankenhaus eingewiesen. Während ihrer Rehabilitation spielte Musik eine zentrale Rolle in ihrem Genesungsprozess. Sie begann sich für Jazzgesang als Teil einer Musiktherapie zu interessieren\, lernte Gitarre und schrieb Songs. „Mit dem Aufnehmen begann ich\, weil ich mich auf diese Weise daran erinnern konnte\, was ich gemacht hatte. Ich hatte wirklich arge Probleme mit meinem Kurzzeitgedächtnis. Ich konnte mich abends schon nicht mehr daran erinnern\, wie der Tag angefangen hatte.“\, erzählte Gardot einmal in einem Interview. Zwei Jahre nach dem Unfall trat sie wieder öffentlich auf\, auch wenn sie aufgrund der Unfallfolgen eine Geräusch- und Lichtempfindlichkeit entwickelte\, die sie bis heute zwingt\, eine abgedunkelte Brille zu tragen. Mittlerweile hat die Singer-Songwriterin mehrere\, teilweise Grammy-nominierte Alben veröffentlicht\, die in ihrer Unterschiedlichkeit – von Jazz und Blues über französischen Chanson und Pop bis zu lateinamerikanischer Musik – die stilistische Bandbreite der Künstlerin widerspiegeln.
URL:https://enjoyjazz.de/veranstaltung/melody-gardot/
LOCATION:BASF Feierabendhaus\, Leuschnerstraße 47\, Ludwigshafen\, 67063\, Deutschland
CATEGORIES:BASF,Enjoy Jazz 2026
ATTACH;FMTTYPE=image/jpeg:https://enjoyjazz.de/wp-content/uploads/2026/02/2026_11_05_Melody_Gardot_zugeschnitten_klein-scaled.jpg
END:VEVENT
BEGIN:VEVENT
DTSTART;TZID=Europe/Berlin:20261117T200000
DTEND;TZID=Europe/Berlin:20261117T220000
DTSTAMP:20260420T144617
CREATED:20260325T091528Z
LAST-MODIFIED:20260331T082218Z
UID:10000433-1794945600-1794952800@enjoyjazz.de
SUMMARY:Encore: Samara Joy
DESCRIPTION:Die aus der Bronx stammende Samara Joy begeisterte sich schon als Kind für klassischen R&B und sammelte ihre ersten Erfahrungen als Sängerin im Gospelchor ihrer Kirche. Und obwohl ihre Familie eine lange musikalische Tradition hat – ihre Großeltern leiteten die Philadelphiaer Gospelgruppe „The Savettes“\, und ihr Vater\, der Musiker und Songwriter Antonio McLendon\, hat seine eigenen beeindruckenden Originalwerke produziert\, komponiert und arrangiert –\, tauchte sie erst während ihres Studiums an der SUNY Purchase in die Jazztradition ein. Während ihres Studiums dort gewann sie 2019 die Sarah Vaughan International Jazz Vocal Competition.2021 veröffentlichte sie ihr selbstbetiteltes Debütalbum\, ein Jahr später folgte „Linger Awhile“\, ihr bahnbrechendes Debüt bei Verve. Das Album brachte ihr einen Grammy für das beste Jazz-Vocal-Album sowie einen vielbeachteten Sieg in der Kategorie „Beste neue Künstlerin“ ein. Mit „A Joyful Holiday“\, gewann sie 2025 Grammys für das beste Jazz-Vocal-Album und die beste Jazz-Darbietung.
URL:https://enjoyjazz.de/veranstaltung/encore-samara-joy/
LOCATION:Konzerthaus Stadthalle Heidelberg\, Neckarstaden 24\, Heidelberg\, Baden-Württemberg\, 69117\, Deutschland
CATEGORIES:Encore Programm,Enjoy Jazz 2026
ATTACH;FMTTYPE=image/jpeg:https://enjoyjazz.de/wp-content/uploads/2026/03/2026_11_17_Samara-Joy_c_ABDM_web-scaled.jpg
END:VEVENT
BEGIN:VEVENT
DTSTART;TZID=Europe/Berlin:20261210T200000
DTEND;TZID=Europe/Berlin:20261210T213000
DTSTAMP:20260420T144617
CREATED:20251111T111810Z
LAST-MODIFIED:20251111T135426Z
UID:10000402-1796932800-1796938200@enjoyjazz.de
SUMMARY:Avishai Cohen Trio
DESCRIPTION:In den letzten 30 Jahren hat sich der international gefeierte Bassist\, Sänger und Komponist Avishai Cohen zu einer der prägendsten Figuren des zeitgenössischen Jazz entwickelt – eine wahre musikalische Ikone\, dessen Werk sich neben einigen der legendärsten Namen des Genres und darüber hinaus behaupten kann. Cohens Originalkompositionen und Arrangements spiegeln ein weitläufiges musikalisches Universum wider\, in dem verschiedene Traditionen\, Kulturen\, Sprachen und Stile miteinander verschmelzen. Seine Musik verbindet nahtlos hebräische und Ladino-Folklore mit pulsierendem\, originellem zeitgenössischem Jazz und schafft so einen Sound\, der sowohl tief verwurzelt als auch innovativ ist. Heute wird er als Komponist und musikalischer Innovator ohne Grenzen gefeiert. Getreu seiner Art setzt Cohen auch in Ludwigshafen seine Tradition fort\, aufstrebende Talente zu fördern und zu entdecken\, und tritt mit den herausragenden jungen Musikern Itay Simhovich (Klavier) und Eviatar Slivnik (Schlagzeug) auf.
URL:https://enjoyjazz.de/veranstaltung/avishai-cohen-trio/
LOCATION:BASF Feierabendhaus\, Leuschnerstraße 47\, Ludwigshafen\, 67063\, Deutschland
CATEGORIES:BASF,Encore Programm,Enjoy Jazz 2026
ATTACH;FMTTYPE=image/jpeg:https://enjoyjazz.de/wp-content/uploads/2025/11/Avishai-Cohen-New-Trio-credit-Peter-Vit-2-small-scaled.jpg
END:VEVENT
END:VCALENDAR