BEGIN:VCALENDAR
VERSION:2.0
PRODID:-//Enjoy Jazz - ECPv6.15.20//NONSGML v1.0//EN
CALSCALE:GREGORIAN
METHOD:PUBLISH
X-WR-CALNAME:Enjoy Jazz
X-ORIGINAL-URL:https://enjoyjazz.de
X-WR-CALDESC:Veranstaltungen für Enjoy Jazz
REFRESH-INTERVAL;VALUE=DURATION:PT1H
X-Robots-Tag:noindex
X-PUBLISHED-TTL:PT1H
BEGIN:VTIMEZONE
TZID:Europe/Berlin
BEGIN:DAYLIGHT
TZOFFSETFROM:+0100
TZOFFSETTO:+0200
TZNAME:CEST
DTSTART:20210328T010000
END:DAYLIGHT
BEGIN:STANDARD
TZOFFSETFROM:+0200
TZOFFSETTO:+0100
TZNAME:CET
DTSTART:20211031T010000
END:STANDARD
BEGIN:DAYLIGHT
TZOFFSETFROM:+0100
TZOFFSETTO:+0200
TZNAME:CEST
DTSTART:20220327T010000
END:DAYLIGHT
BEGIN:STANDARD
TZOFFSETFROM:+0200
TZOFFSETTO:+0100
TZNAME:CET
DTSTART:20221030T010000
END:STANDARD
BEGIN:DAYLIGHT
TZOFFSETFROM:+0100
TZOFFSETTO:+0200
TZNAME:CEST
DTSTART:20230326T010000
END:DAYLIGHT
BEGIN:STANDARD
TZOFFSETFROM:+0200
TZOFFSETTO:+0100
TZNAME:CET
DTSTART:20231029T010000
END:STANDARD
END:VTIMEZONE
BEGIN:VEVENT
DTSTART;TZID=Europe/Berlin:20220807T170000
DTEND;TZID=Europe/Berlin:20220807T200000
DTSTAMP:20260424T190103
CREATED:20220725T135228Z
LAST-MODIFIED:20220726T144923Z
UID:10000203-1659891600-1659902400@enjoyjazz.de
SUMMARY:Mayquel González Quartet
DESCRIPTION:Es ist die Rückkehr des Trompeters Mayquel González mit seinem Quartet – treuen Enjoy-Jazz-Besuchern und Liebhabern lateinamerikanischer Musik kein Unbekannter. Seinem warmen\, swingenden Spiel verdankt er Kollaborationen mit Chucho Valdés oder Harold López-Nussa. Er stand auf renommierten Festivalbühnen und trat weltweit in legendären Clubs auf. Sein Album-Debüt als Leader wurde mit dem Preis des Cubadisco Music Festival 2019 ausgezeichnet\, ein Ritterschlag. Übrigens darf das Konzert des Quartetts als Fortsetzung der partnerschaftlichen Kooperation von Enjoy Jazz mit dem „Festival Internacional Jazz Plaza Havana“ gesehen werden\, das der Region ja schon einige spannende Abende beschert hat.
URL:https://enjoyjazz.de/veranstaltung/mayquel-gonzalez-quartet/
LOCATION:Metropolink’s Commissary\, South Gettysburg Avenue 46\, Heidelberg\, Baden-Württemberg\, 69124\, Deutschland
CATEGORIES:Sommerkonzerte
ATTACH;FMTTYPE=image/jpeg:https://enjoyjazz.de/wp-content/uploads/2022/07/Mayquel-Gonzalez-scaled.jpeg
END:VEVENT
END:VCALENDAR