BEGIN:VCALENDAR
VERSION:2.0
PRODID:-//Enjoy Jazz - ECPv6.15.20//NONSGML v1.0//EN
CALSCALE:GREGORIAN
METHOD:PUBLISH
X-ORIGINAL-URL:https://enjoyjazz.de
X-WR-CALDESC:Veranstaltungen für Enjoy Jazz
REFRESH-INTERVAL;VALUE=DURATION:PT1H
X-Robots-Tag:noindex
X-PUBLISHED-TTL:PT1H
BEGIN:VTIMEZONE
TZID:Europe/Berlin
BEGIN:DAYLIGHT
TZOFFSETFROM:+0100
TZOFFSETTO:+0200
TZNAME:CEST
DTSTART:20210328T010000
END:DAYLIGHT
BEGIN:STANDARD
TZOFFSETFROM:+0200
TZOFFSETTO:+0100
TZNAME:CET
DTSTART:20211031T010000
END:STANDARD
BEGIN:DAYLIGHT
TZOFFSETFROM:+0100
TZOFFSETTO:+0200
TZNAME:CEST
DTSTART:20220327T010000
END:DAYLIGHT
BEGIN:STANDARD
TZOFFSETFROM:+0200
TZOFFSETTO:+0100
TZNAME:CET
DTSTART:20221030T010000
END:STANDARD
BEGIN:DAYLIGHT
TZOFFSETFROM:+0100
TZOFFSETTO:+0200
TZNAME:CEST
DTSTART:20230326T010000
END:DAYLIGHT
BEGIN:STANDARD
TZOFFSETFROM:+0200
TZOFFSETTO:+0100
TZNAME:CET
DTSTART:20231029T010000
END:STANDARD
END:VTIMEZONE
BEGIN:VEVENT
DTSTART;TZID=Europe/Berlin:20220905T080000
DTEND;TZID=Europe/Berlin:20220905T170000
DTSTAMP:20260424T175011
CREATED:20220920T082925Z
LAST-MODIFIED:20220920T082925Z
UID:10000136-1662364800-1662397200@enjoyjazz.de
SUMMARY:Julian Maier-Hauff's Synaesthesima Ensemble
DESCRIPTION:Bloß nicht in die Nische passen! Lieber Jazz-Trompete studieren\, aber gleichzeitig die Möglichkeiten elektronischer Musik erforschen. Jazzpreise gewinnen\, aber gleichzeitig mit der Jungen Nordeutschen Philharmonie und Samy Deluxe arbeiten. Für kreative Musiker:innen mit einem besonderen Horizont wie Julian Maier-Hauff wurde in der Alten Feuerwache Mannheim das Format „Zündeln“ entwickelt. Die Idee: Ein(e) regionale(r) Künstler:in bekommt die Gelegenheit\, sich einen Gast oder auch mehrere Gäste einzuladen\, um ergebnisoffen miteinander eine Idee zu entwickeln und zu erproben. Sämtliche Sparten der Künste sind dabei erlaubt und kombinierbar. Dieses „offene“ Konzept wurde bereits mehrfach erfolgreich realisiert. 2022\, nach der Pandemie-Pause\, war es an Julian Maier-Hauff zu zündeln. Seine Idee: Warum nicht ein Abendprogramm für einen spezifischen Raum erarbeiten\, der alle Sinne des Publikums und der beteiligten Künstler:innen beansprucht. Also eine möglichst offene\, Genre-Grenzen und Schubladen öffnende musikalische Improvisation für Auge und Ohr\, dazu noch Angebote für Geschmack (Koch\, Barkeeper) und Geruch. Ein sinnliches Erlebnisbad in Atmosphären und Improvisationen – ein Gelingen mit Resonanz\, das jetzt gewissermaßen eine neue Stufe in Sachen „geschmackvolle Musik“ zündet. Hmmm\, mundet!
URL:https://enjoyjazz.de/veranstaltung/julian-maier-hauffs-synaesthesima-ensemble-2/
LOCATION:Rheinland-Pfalz
ATTACH;FMTTYPE=image/jpeg:https://enjoyjazz.de/wp-content/uploads/2022/09/Julian-Maier-Hauff_Gruppe.jpg
END:VEVENT
END:VCALENDAR