BEGIN:VCALENDAR
VERSION:2.0
PRODID:-//Enjoy Jazz - ECPv6.15.20//NONSGML v1.0//EN
CALSCALE:GREGORIAN
METHOD:PUBLISH
X-WR-CALNAME:Enjoy Jazz
X-ORIGINAL-URL:https://enjoyjazz.de
X-WR-CALDESC:Veranstaltungen für Enjoy Jazz
REFRESH-INTERVAL;VALUE=DURATION:PT1H
X-Robots-Tag:noindex
X-PUBLISHED-TTL:PT1H
BEGIN:VTIMEZONE
TZID:Europe/Berlin
BEGIN:DAYLIGHT
TZOFFSETFROM:+0100
TZOFFSETTO:+0200
TZNAME:CEST
DTSTART:20210328T010000
END:DAYLIGHT
BEGIN:STANDARD
TZOFFSETFROM:+0200
TZOFFSETTO:+0100
TZNAME:CET
DTSTART:20211031T010000
END:STANDARD
BEGIN:DAYLIGHT
TZOFFSETFROM:+0100
TZOFFSETTO:+0200
TZNAME:CEST
DTSTART:20220327T010000
END:DAYLIGHT
BEGIN:STANDARD
TZOFFSETFROM:+0200
TZOFFSETTO:+0100
TZNAME:CET
DTSTART:20221030T010000
END:STANDARD
BEGIN:DAYLIGHT
TZOFFSETFROM:+0100
TZOFFSETTO:+0200
TZNAME:CEST
DTSTART:20230326T010000
END:DAYLIGHT
BEGIN:STANDARD
TZOFFSETFROM:+0200
TZOFFSETTO:+0100
TZNAME:CET
DTSTART:20231029T010000
END:STANDARD
END:VTIMEZONE
BEGIN:VEVENT
DTSTART;TZID=Europe/Berlin:20221204T200000
DTEND;TZID=Europe/Berlin:20221204T220000
DTSTAMP:20260424T131037
CREATED:20220802T092128Z
LAST-MODIFIED:20221128T134219Z
UID:10000129-1670184000-1670191200@enjoyjazz.de
SUMMARY:Fola Dada
DESCRIPTION:Fola Dada kommt mit neuen Songs im Gepäck. „Essence“ heisst diese Liedersammlung. Alles\, was Fola ausmacht\, schätzt und berührt ist hier vereint. Das bezieht sich auf die verschiedenen Musikstile\, wie Soul\, Jazz\, House oder Reggae und bearbeitet Themen\, wie\, das Leben in einer Welt\, die sich wandelt und wandeln muss\, die Liebe\, die Suche nach Zufriedenheit\, der Umgang mit Unsicherheit und unbeantworteten Fragen.\nMusikalisch eingebettet in groovende Sounds\, virtuose Soli\, ein energiegeladenes Interplay\, Folas weiter Stimme und dem einzigartigen Spiel der Band\, bestehend aus Ulf Kleiner am Rhodes\, Tommy Baldu am Schlagzeug\, Joscha Glass am Bass und Joo Kraus an Trompete\, Gesang und Sounds. Nach dem Album Earth geht es nun also tiefer auf den Grund mit mehr Musik und mehr Fola\, mehr Band und noch mehr Freude\, mit dem Publikum einen einzigartigen Abend zu verbringen.
URL:https://enjoyjazz.de/veranstaltung/fola-dada/
LOCATION:Schlosstheater Schwetzingen\, Am Schloß\, Schwetzingen\, Baden-Württemberg\, 68723\, Deutschland
ATTACH;FMTTYPE=image/jpeg:https://enjoyjazz.de/wp-content/uploads/2022/07/Dada_Fola_R7B8612-scaled.jpg
END:VEVENT
END:VCALENDAR