BEGIN:VCALENDAR
VERSION:2.0
PRODID:-//Enjoy Jazz - ECPv6.15.20//NONSGML v1.0//EN
CALSCALE:GREGORIAN
METHOD:PUBLISH
X-ORIGINAL-URL:https://enjoyjazz.de
X-WR-CALDESC:Veranstaltungen für Enjoy Jazz
REFRESH-INTERVAL;VALUE=DURATION:PT1H
X-Robots-Tag:noindex
X-PUBLISHED-TTL:PT1H
BEGIN:VTIMEZONE
TZID:Europe/Berlin
BEGIN:DAYLIGHT
TZOFFSETFROM:+0100
TZOFFSETTO:+0200
TZNAME:CEST
DTSTART:20220327T010000
END:DAYLIGHT
BEGIN:STANDARD
TZOFFSETFROM:+0200
TZOFFSETTO:+0100
TZNAME:CET
DTSTART:20221030T010000
END:STANDARD
BEGIN:DAYLIGHT
TZOFFSETFROM:+0100
TZOFFSETTO:+0200
TZNAME:CEST
DTSTART:20230326T010000
END:DAYLIGHT
BEGIN:STANDARD
TZOFFSETFROM:+0200
TZOFFSETTO:+0100
TZNAME:CET
DTSTART:20231029T010000
END:STANDARD
BEGIN:DAYLIGHT
TZOFFSETFROM:+0100
TZOFFSETTO:+0200
TZNAME:CEST
DTSTART:20240331T010000
END:DAYLIGHT
BEGIN:STANDARD
TZOFFSETFROM:+0200
TZOFFSETTO:+0100
TZNAME:CET
DTSTART:20241027T010000
END:STANDARD
END:VTIMEZONE
BEGIN:VEVENT
DTSTART;TZID=Europe/Berlin:20230430T200000
DTEND;TZID=Europe/Berlin:20230430T213000
DTSTAMP:20260422T200238
CREATED:20230323T092926Z
LAST-MODIFIED:20230510T140551Z
UID:10000210-1682884800-1682890200@enjoyjazz.de
SUMMARY:Green Dolphin Orchestra
DESCRIPTION:Seit 2012 wird alljährlich am 30. April der Internationale Jazztag der UNESCO gefeiert. Gemeinsam mit der Metropolink’s Commissary im Patrick Henry Village Heidelberg beteiligt sich in schöner Tradition auch 2023 das Enjoy Jazz Festival wieder an den weltweit stattfindenden Feierlichkeiten. Seit dem 2022 gestaltet das Green Dolphin Orchestra das Enjoy Jazz-Konzert zum Jazztag. Die Formation wird alljährlich immer wieder neu zusammengestellt. \nUnter der künstlerischen Leitung und Mitwirkung von Alexandra Lehmler und Erwin Ditzner bilden die Trompeterin Heidi Bayer\, der Bassist Dietmar Fuhr\, der Gitarrist David Kirchner\, der Akkordeonist Fe Fritschi gemeinsam mit dem Visual Artist Benjamin Jantzen das audiovisuelle Green Dolphin Orchestra 2023. \n 
URL:https://enjoyjazz.de/veranstaltung/green-dolphin-jazz-orchestra/
LOCATION:Metropolink’s Commissary\, South Gettysburg Avenue 46\, Heidelberg\, Baden-Württemberg\, 69124\, Deutschland
ATTACH;FMTTYPE=image/jpeg:https://enjoyjazz.de/wp-content/uploads/2023/03/ErwinDitzner_AlexandraLehmler_GreenDolphinOrchestra_c_DanielWetzel_02_WEB-scaled.jpg
END:VEVENT
END:VCALENDAR