BEGIN:VCALENDAR
VERSION:2.0
PRODID:-//Enjoy Jazz - ECPv6.15.20//NONSGML v1.0//EN
CALSCALE:GREGORIAN
METHOD:PUBLISH
X-WR-CALNAME:Enjoy Jazz
X-ORIGINAL-URL:https://enjoyjazz.de
X-WR-CALDESC:Veranstaltungen für Enjoy Jazz
REFRESH-INTERVAL;VALUE=DURATION:PT1H
X-Robots-Tag:noindex
X-PUBLISHED-TTL:PT1H
BEGIN:VTIMEZONE
TZID:Europe/Berlin
BEGIN:DAYLIGHT
TZOFFSETFROM:+0100
TZOFFSETTO:+0200
TZNAME:CEST
DTSTART:20220327T010000
END:DAYLIGHT
BEGIN:STANDARD
TZOFFSETFROM:+0200
TZOFFSETTO:+0100
TZNAME:CET
DTSTART:20221030T010000
END:STANDARD
BEGIN:DAYLIGHT
TZOFFSETFROM:+0100
TZOFFSETTO:+0200
TZNAME:CEST
DTSTART:20230326T010000
END:DAYLIGHT
BEGIN:STANDARD
TZOFFSETFROM:+0200
TZOFFSETTO:+0100
TZNAME:CET
DTSTART:20231029T010000
END:STANDARD
BEGIN:DAYLIGHT
TZOFFSETFROM:+0100
TZOFFSETTO:+0200
TZNAME:CEST
DTSTART:20240331T010000
END:DAYLIGHT
BEGIN:STANDARD
TZOFFSETFROM:+0200
TZOFFSETTO:+0100
TZNAME:CET
DTSTART:20241027T010000
END:STANDARD
END:VTIMEZONE
BEGIN:VEVENT
DTSTART;TZID=Europe/Berlin:20230507T150000
DTEND;TZID=Europe/Berlin:20230507T171500
DTSTAMP:20260422T185020
CREATED:20230301T110019Z
LAST-MODIFIED:20230330T125717Z
UID:10000211-1683471600-1683479700@enjoyjazz.de
SUMMARY:Enjoy Jazz Schulbigband & Landesjugendjazzorchester Baden-Württemberg
DESCRIPTION:Enjoy Jazz Schul-Bigband \nDie Enjoy Jazz Schul-Bigband vereint hochtalentierte junge Musiker*innen aus drei Schulen der drei Ankerstädte des Festivals zu einem Klangkörper von großer Meisterschaft\, Leidenschaft und Intensität: das St. Raphael Gymnasium Heidelberg\, das Johann-Sebastian-Bach-Gymnasium Mannheim und das Max-Planck-Gymnasium in Ludwigshafen. Drei Dirigenten wechseln sich am Pult ab: Dr. Peer Hübel\, Peter Jacob und Stefan Kirsch. \nNach zweijähriger Corona-Pause feierte das Leuchtturm-Projekt der EnjoyJazzJugendförderung im letzten Jahr sein zehnjähriges Bestehen. Natürlich stilgerecht mit einem wie jedes Jahr ausverkauften Konzert im Rahmen des größten deutschen Jazz-Festivals. \nAuch bei der 25. Ausgabe des Festivals im Herbst wird die Enjoy Jazz Schul-Bigband wieder live zu hören sein. So lange müssen Sie aber glücklicherweise nicht warten. Freuen Sie sich auf ein musikalisches Feuerwerk aus Jazz-Klassikern wie „Mercy\, Mery\, Mercy“ oder Sonny Rollins’ „St. Thomas“. Und\, wer weiß\, vielleicht gibt es dann ja auch noch ein bisschen Police und Metallica zu hören. \nLandesjugendjazzorchester Baden-Württemberg \nDas baden-württembergische Auswahlorchester für Nachwuchsmusiker*innen zwischen 16 und 24 Jahren wurde zu Beginn der 1980er Jahre als eines der ersten seiner Art in Deutschland von Jiggs Whigham und Bernd Konrad gegründet. Über 400 Mitglieder haben das Orchester seither durchlaufen. Träger des Ensembles ist der Landesmusikrat BadenWürttemberg. \nZiel des Jugendjazzorchesters ist es\, herausragende junge Jazzmusiker*innen früh in Kontakt miteinander zu bringen und ihre musikalische Entwicklung nachhaltig zu fördern. Zahlreiche Konzerte im Lande verfestigen das Niveau und machen das JJO auch zu einem wichtigen Botschafter des Musiklandes Baden-Württemberg. \nDas Jugendjazzorchester Baden-Württemberg spielt ein breit gefächertes Programm aus 80 Jahren Bigband-Geschichte. Zeitgenössische europäische Musik ist darin ebenso zu finden wie die klassische amerikanische Musik von Bands wie Count Basie\, Duke Ellington oder Thad Jones. Viel improvisatorischer Raum wird dabei auch den jungen Solist*innen des Ensembles gegeben\, denn Jazz ist Kommunikation\, unabhängig vom musikalischen Kontext. \nSelbstverständlich sind auch Vokal-Arrangements Bestandteil des Repertoires\, so kommen Standards des American Songbook zu Gehör\, aber auch legendäre Popsongs wie von Stevie Wonder oder Billy Joel. Deren Gewand reicht von klassisch „bigbandish“ bis klanglich-experimentell.
URL:https://enjoyjazz.de/veranstaltung/enjoy-jazz-schulbigband-landesjugendjazzorchester-baden-wuerttemberg/
LOCATION:Kulturhaus Käfertal\, Gartenstraße 8\, Mannheim\, 68309\, Deutschland
ATTACH;FMTTYPE=image/jpeg:https://enjoyjazz.de/wp-content/uploads/2023/03/BigBand-LandesjugendJazz.jpg
END:VEVENT
END:VCALENDAR