BEGIN:VCALENDAR
VERSION:2.0
PRODID:-//Enjoy Jazz - ECPv6.15.20//NONSGML v1.0//EN
CALSCALE:GREGORIAN
METHOD:PUBLISH
X-WR-CALNAME:Enjoy Jazz
X-ORIGINAL-URL:https://enjoyjazz.de
X-WR-CALDESC:Veranstaltungen für Enjoy Jazz
REFRESH-INTERVAL;VALUE=DURATION:PT1H
X-Robots-Tag:noindex
X-PUBLISHED-TTL:PT1H
BEGIN:VTIMEZONE
TZID:Europe/Berlin
BEGIN:DAYLIGHT
TZOFFSETFROM:+0100
TZOFFSETTO:+0200
TZNAME:CEST
DTSTART:20220327T010000
END:DAYLIGHT
BEGIN:STANDARD
TZOFFSETFROM:+0200
TZOFFSETTO:+0100
TZNAME:CET
DTSTART:20221030T010000
END:STANDARD
BEGIN:DAYLIGHT
TZOFFSETFROM:+0100
TZOFFSETTO:+0200
TZNAME:CEST
DTSTART:20230326T010000
END:DAYLIGHT
BEGIN:STANDARD
TZOFFSETFROM:+0200
TZOFFSETTO:+0100
TZNAME:CET
DTSTART:20231029T010000
END:STANDARD
BEGIN:DAYLIGHT
TZOFFSETFROM:+0100
TZOFFSETTO:+0200
TZNAME:CEST
DTSTART:20240331T010000
END:DAYLIGHT
BEGIN:STANDARD
TZOFFSETFROM:+0200
TZOFFSETTO:+0100
TZNAME:CET
DTSTART:20241027T010000
END:STANDARD
END:VTIMEZONE
BEGIN:VEVENT
DTSTART;TZID=Europe/Berlin:20230629T190000
DTEND;TZID=Europe/Berlin:20230629T220000
DTSTAMP:20260422T172622
CREATED:20230329T132624Z
LAST-MODIFIED:20230519T095222Z
UID:10000209-1688065200-1688076000@enjoyjazz.de
SUMMARY:Moor Mother - Jazz Codes
DESCRIPTION:Frauen sollten Protestmusik machen\, sagte Camae Ayewa einmal. Besser bekannt ist Ayewa unter dem Namen Moor Mother. Die in Aberdeen\, Maryland\, USA geborene Künstlerin würde sich wohl als Performerin bezeichnen\, als Feministin und Aktivistin\, und all diese Aspekte fließen ein in ihr Schaffen als Musikerin – ob im Zusammenwirken mit der Neo-Free-Jazz-Band Irreversible Entanglements oder als Moor Mother\, ob sie mit analogen Instrumenten arbeitet oder mit elektronischen Soundschnipseln. Das letzte Album der Spoken-Word-Artistin ist vielleicht das bisher facetten- und anspielungsreichste\, auch weil es einen weiten historischen Kontext eröffnet\, um die Gegenwart in den Griff zu kriegen: Auf „Jazz Codes“ verwirbelt sie tausend Ideen und Einflüsse; Mary Lou Williams oder Sun Ra werden als heilige Geister von einem illustren Kollektiv zeitgenössischer Musiker:innen beschworen: Jason Moran\, Nicole Mitchell\, Melanie Charles sind dabei\, um hier nur einige wenige zu nennen. Es ist ein Streifzug durch verschiedene ästhetische Positionen\, Stile und Spielweisen. Das ist sinnlich und theoretisch zugleich: eine selbstermächtigende Fortschreibung von Tradition in die Zukunft. Im Zentrum: Moor Mothers wortgewaltiger\, hoffnungsseliger Protest. „A Jazz funeral turned revival twist / away / from America’s strange fruits / into scats of Jazz code.“
URL:https://enjoyjazz.de/veranstaltung/moor-mother-jazz-codes/
LOCATION:Privat: BUGA 2023 Hauptbühne\, Neuer Gartenschauweg 1\, Mannheim\, 68259\, Deutschland
CATEGORIES:BuGa 2023
ATTACH;FMTTYPE=image/jpeg:https://enjoyjazz.de/wp-content/uploads/2023/03/Moor-Mother-by-Samantha-Isasian-1_WEB-scaled.jpg
END:VEVENT
BEGIN:VEVENT
DTSTART;TZID=Europe/Berlin:20230630T190000
DTEND;TZID=Europe/Berlin:20230630T210000
DTSTAMP:20260422T172622
CREATED:20230329T132453Z
LAST-MODIFIED:20230630T080932Z
UID:10000212-1688151600-1688158800@enjoyjazz.de
SUMMARY:Sona Jobarteh
DESCRIPTION:Hatte Sona Jobarteh eine Wahl? Eigentlich nicht. Wer in einer der bekanntesten Griot-Dynastien Westafrikas aufwächst\, von musikalischen Großmeistern umgeben ist\, der dürfte kaum ins Grübeln kommen über die eigene Berufung. Eine Berufung jedenfalls muss es sein: Schon als sehr kleines Kind erlernte die 1983 in London geborene\, aus Gambia stammende Sona Jobarteh das Spiel auf der Kora\, der 21-seitigen Stegharfe\, die aus der Griot-Tradition nicht wegzudenken ist. Dass sie ihre kindliche Leidenschaft auf die großen Festivalbühnen der Welt führen würde\, ist durchaus ungewöhnlich – Frauen reüssieren an diesem Instrument eher nicht. Vielleicht hat sie deshalb zunächst auch Cello\, Klavier und Cembalo am Royal College of Music studiert\, bevor sie ein kulturwissenschaftliches Studium an der School of Oriental and African Studies anschloss. So kam sie zurück zu ihren Wurzeln. Das besondere an Sona Jobarteh: Europäische und afrikanische Musikformen sind für sie gleichermaßen Inspiration. Noch revolutionärer aber ist\, dass sie als Frau die Rollen der Bewahrerin einer gesellschaftsprägenden Kultur und politischen Aktivistin miteinander verknüpft. Und damit Impulse für eine jüngere Generation setzt. Inzwischen gilt die virtuose Instrumentalistin und Sängerin als „die Stimme Gambias“.
URL:https://enjoyjazz.de/veranstaltung/sona-jobarteh/
LOCATION:Privat: BUGA 2023 Hauptbühne\, Neuer Gartenschauweg 1\, Mannheim\, 68259\, Deutschland
CATEGORIES:Enjoy Jazz 2023
ATTACH;FMTTYPE=image/jpeg:https://enjoyjazz.de/wp-content/uploads/2023/03/Jobarteh_Photo_O_Connor_8626_4000p_WEB-scaled.jpg
END:VEVENT
END:VCALENDAR