BEGIN:VCALENDAR
VERSION:2.0
PRODID:-//Enjoy Jazz - ECPv6.15.20//NONSGML v1.0//EN
CALSCALE:GREGORIAN
METHOD:PUBLISH
X-WR-CALNAME:Enjoy Jazz
X-ORIGINAL-URL:https://enjoyjazz.de
X-WR-CALDESC:Veranstaltungen für Enjoy Jazz
REFRESH-INTERVAL;VALUE=DURATION:PT1H
X-Robots-Tag:noindex
X-PUBLISHED-TTL:PT1H
BEGIN:VTIMEZONE
TZID:Europe/Berlin
BEGIN:DAYLIGHT
TZOFFSETFROM:+0100
TZOFFSETTO:+0200
TZNAME:CEST
DTSTART:20220327T010000
END:DAYLIGHT
BEGIN:STANDARD
TZOFFSETFROM:+0200
TZOFFSETTO:+0100
TZNAME:CET
DTSTART:20221030T010000
END:STANDARD
BEGIN:DAYLIGHT
TZOFFSETFROM:+0100
TZOFFSETTO:+0200
TZNAME:CEST
DTSTART:20230326T010000
END:DAYLIGHT
BEGIN:STANDARD
TZOFFSETFROM:+0200
TZOFFSETTO:+0100
TZNAME:CET
DTSTART:20231029T010000
END:STANDARD
BEGIN:DAYLIGHT
TZOFFSETFROM:+0100
TZOFFSETTO:+0200
TZNAME:CEST
DTSTART:20240331T010000
END:DAYLIGHT
BEGIN:STANDARD
TZOFFSETFROM:+0200
TZOFFSETTO:+0100
TZNAME:CET
DTSTART:20241027T010000
END:STANDARD
END:VTIMEZONE
BEGIN:VEVENT
DTSTART;TZID=Europe/Berlin:20231213T200000
DTEND;TZID=Europe/Berlin:20231213T213000
DTSTAMP:20260422T071305
CREATED:20230719T151245Z
LAST-MODIFIED:20230831T121559Z
UID:10000228-1702497600-1702503000@enjoyjazz.de
SUMMARY:Rabih Abou Khalil
DESCRIPTION:Den wohlfeilen Exotismen der Weltmusik und den Klangtapeten des Ethno-Jazz begegnete der im Libanon gebürtige und mittlerweile in Frankreich lebende Oud-Virtuose Rabih Abou Kahlil früh sehr reserviert. Er stand und steht für musikalischen Austausch zwischen unterschiedlichen Kulturen und Spielweisen basierend auf Neugier\, Empathie und Augenhöhe – und selbstredend musikalischer Kompetenz. Bei seinen vielfältigen Projekten\, die Grenzgänge zwischen arabischer Musik\, europäischer Klassik und jazzaffinen Improvisationen erlauben\, legt er stets großes Gewicht auf die Auswahl seiner musikalischen Gesprächspartner:innen. Darunter so offene und hellhörige Geister wie Charlie Mariano\, Kenny Wheeler\, Joachim Kühn\, Jarrod Gagwin oder – jüngst – Elina Duni\, aber auch das Kronos Quartet oder das Ensemble Modern. Rabih Abou Khalil könnte zu aktuellen Debatten zur Interkulturalität und zur kulturellen Appropriation gut zwei Jahrzehnte erfahrungsgesättigte\, aber dabei undogmatische Impulse beisteuern. Auch. Einmal abgesehen von herausragender Live-Musik.
URL:https://enjoyjazz.de/veranstaltung/rabih-abou-khalil/
LOCATION:Karlstorbahnhof\, Marlene-Dietrich Platz 3\, Heidelberg\, Baden-Württemberg\, 69126\, Deutschland
CATEGORIES:Encore Programm,Enjoy Jazz Festival 2023
ATTACH;FMTTYPE=image/jpeg:https://enjoyjazz.de/wp-content/uploads/2023/07/2023_12_13_Rabih-Abou-Khalil_JessicaJungbluth-3.jpg
END:VEVENT
END:VCALENDAR