BEGIN:VCALENDAR
VERSION:2.0
PRODID:-//Enjoy Jazz - ECPv6.15.20//NONSGML v1.0//EN
CALSCALE:GREGORIAN
METHOD:PUBLISH
X-ORIGINAL-URL:https://enjoyjazz.de
X-WR-CALDESC:Veranstaltungen für Enjoy Jazz
REFRESH-INTERVAL;VALUE=DURATION:PT1H
X-Robots-Tag:noindex
X-PUBLISHED-TTL:PT1H
BEGIN:VTIMEZONE
TZID:Europe/Berlin
BEGIN:DAYLIGHT
TZOFFSETFROM:+0100
TZOFFSETTO:+0200
TZNAME:CEST
DTSTART:20230326T010000
END:DAYLIGHT
BEGIN:STANDARD
TZOFFSETFROM:+0200
TZOFFSETTO:+0100
TZNAME:CET
DTSTART:20231029T010000
END:STANDARD
BEGIN:DAYLIGHT
TZOFFSETFROM:+0100
TZOFFSETTO:+0200
TZNAME:CEST
DTSTART:20240331T010000
END:DAYLIGHT
BEGIN:STANDARD
TZOFFSETFROM:+0200
TZOFFSETTO:+0100
TZNAME:CET
DTSTART:20241027T010000
END:STANDARD
BEGIN:DAYLIGHT
TZOFFSETFROM:+0100
TZOFFSETTO:+0200
TZNAME:CEST
DTSTART:20250330T010000
END:DAYLIGHT
BEGIN:STANDARD
TZOFFSETFROM:+0200
TZOFFSETTO:+0100
TZNAME:CET
DTSTART:20251026T010000
END:STANDARD
END:VTIMEZONE
BEGIN:VEVENT
DTSTART;TZID=Europe/Berlin:20240731T200000
DTEND;TZID=Europe/Berlin:20240731T213000
DTSTAMP:20260421T211326
CREATED:20240522T160053Z
LAST-MODIFIED:20240731T081954Z
UID:10000290-1722456000-1722461400@enjoyjazz.de
SUMMARY:Mount Kimbie
DESCRIPTION:Ob bei ausverkauften Headliner-Auftritten in Clubs oder an so besonderen Veranstaltungsorten wie dem Tate Modern – ganz zu schweigen von Auftritten bei erstklassigen Festivals wie Primavera\, Coachella\, Pitchfork\, Glastonbury\, MELT und vielen anderen – Mount Kimbie hat eine entscheidende Rolle bei der Entwicklung avantgardistischer zeitgenössischer britischer Musik gespielt und sich eine riesige und treue globale Fangemeinde aufgebaut. Bereits mit ihrem Debütalbum „Crooks & Lovers“ führten sie über 30 Jahresbestenlisten an. Seitdem haben sich Mount Kimbie von einem der führenden Namen aus der lebendigen Londoner elektronischen Musikszene zu Vorreitern eines neuen modernen Indie entwickelt. Über ihr bisher erfolgreichstes Album „Love What Survives“ mit Features von King Krule oder James Blake bis hin zu ihrem in diesem Jahr erschienenen Album „The Sunset Vioilent“\, auf dem sie nun endgültig im Post-Punk angekommen sind. \nIm Frühling dieses Jahres absolvierten sie mit genau diesem Album eine ausverkaufte Europa- und USA-Tournee mit nur einem einzigen Stop in Deutschland (Huxleys Berlin). Umso mehr freuen wir uns\, dass wir sie gemeinsam mit Enjoy Jazz dazu begeistern konnten\, diesen Sommer noch einmal für eine Show zu uns nach Süddeutschland zu kommen.
URL:https://enjoyjazz.de/veranstaltung/mount-kimbie/
LOCATION:Metropolink’s Commissary\, South Gettysburg Avenue 46\, Heidelberg\, Baden-Württemberg\, 69124\, Deutschland
CATEGORIES:Enjoy Jazz 2024,Sommerkonzerte
ATTACH;FMTTYPE=image/jpeg:https://enjoyjazz.de/wp-content/uploads/2024/05/Mount-Kimbie-2023-by-T-Bone-Fletcher-landscape_1400.jpg
END:VEVENT
END:VCALENDAR