BEGIN:VCALENDAR
VERSION:2.0
PRODID:-//Enjoy Jazz - ECPv6.15.20//NONSGML v1.0//EN
CALSCALE:GREGORIAN
METHOD:PUBLISH
X-ORIGINAL-URL:https://enjoyjazz.de
X-WR-CALDESC:Veranstaltungen für Enjoy Jazz
REFRESH-INTERVAL;VALUE=DURATION:PT1H
X-Robots-Tag:noindex
X-PUBLISHED-TTL:PT1H
BEGIN:VTIMEZONE
TZID:Europe/Berlin
BEGIN:DAYLIGHT
TZOFFSETFROM:+0100
TZOFFSETTO:+0200
TZNAME:CEST
DTSTART:20240331T010000
END:DAYLIGHT
BEGIN:STANDARD
TZOFFSETFROM:+0200
TZOFFSETTO:+0100
TZNAME:CET
DTSTART:20241027T010000
END:STANDARD
BEGIN:DAYLIGHT
TZOFFSETFROM:+0100
TZOFFSETTO:+0200
TZNAME:CEST
DTSTART:20250330T010000
END:DAYLIGHT
BEGIN:STANDARD
TZOFFSETFROM:+0200
TZOFFSETTO:+0100
TZNAME:CET
DTSTART:20251026T010000
END:STANDARD
BEGIN:DAYLIGHT
TZOFFSETFROM:+0100
TZOFFSETTO:+0200
TZNAME:CEST
DTSTART:20260329T010000
END:DAYLIGHT
BEGIN:STANDARD
TZOFFSETFROM:+0200
TZOFFSETTO:+0100
TZNAME:CET
DTSTART:20261025T010000
END:STANDARD
END:VTIMEZONE
BEGIN:VEVENT
DTSTART;TZID=Europe/Berlin:20250214T200000
DTEND;TZID=Europe/Berlin:20250214T223000
DTSTAMP:20260421T111418
CREATED:20241217T102333Z
LAST-MODIFIED:20250120T142548Z
UID:10000326-1739563200-1739572200@enjoyjazz.de
SUMMARY:Trygve Seim & Frode Haltli
DESCRIPTION:Auf Our Time erneuern der Saxophonist Trygve Seim und der Akkordeonist Frode Haltli ihre langjährige musikalische Partnerschaft – ein Duo\, das 2025 auf ein Vierteljahrhundert gemeinsames Schaffen zurückblicken kann. Das Album präsentiert ein Programm aus nachdenklich stimmenden Improvisationen und Kompositionen\, darunter das ukrainische Wiegenlied „Oy Khodyt’ Son\, Kolo Vikon“ und das nordindische traditionelle Stück „Shyama Sundara Madena Mohana“. Mit Our Time knüpfen sie an ihr 2008 erschienenes Duo-Album Yeraz an und zeigen eine neu belebte Kreativität und ein tiefes Staunen. \nDie Zusammenarbeit der beiden Norweger reicht bis zu Trygves Ensemble The Source And Different Cikadas im Jahr 2002 zurück und hat seither viele fruchtbare Projekte hervorgebracht. Doch in diesem intimen Rahmen eröffnen sich ihnen größere Freiheiten und dynamische Möglichkeiten\, die zu noch spielerischerem\, einfallsreicherem und zugleich zerbrechlichem Musizieren führen. Wie das Magazin Downbeat zu ihrer letzten gemeinsamen Arbeit anmerkte\, entfalten sich „die Improvisationen mit exquisiter Sorgfalt\, in Linien\, die von melancholischer Schönheit und manchmal schimmernder Hoffnung durchdrungen sind.“ \nDie deutsche Wochenzeitung Die Zeit schrieb 2008 über ihr Debütalbum Yeraz: „Reine Schönheit ist der gemeinsame Tonfall von Trygve Seim und Frode Haltli. Es gibt etwas Volksliedhaftes in diesen musikalischen Schnittpunkten\, wo weltliche und geistliche Musik zum Tanz zusammentreffen.“ Diese Aussage hat auch heute Bestand\, doch die Verbindung zwischen Saxophonist und Akkordeonist ist seitdem noch fließender geworden. \nAuf Our Time tauschen Trygve und Frode kontrapunktische Blicke\, lyrische Wogen und texturale Erkundungen mit Anmut\, Eloquenz und höchster Nuance aus. Sie präsentieren ein Programm aus Eigenkompositionen\, Improvisationen und einfühlsamen Neugestaltungen traditioneller Volkslieder aus der Ukraine und Nordindien. Das Album wurde 2023 in der Himmelfahrtskirche in München aufgenommen und von Manfred Eicher produziert. Auf Our Time verschmelzen die Töne von Saxophon und Akkordeon zu einem surrealen und magischen Tanz. \nBenjamin Sandro Jantzen//Visuals:\nBenjamin Jantzen erforscht in seinen Arbeiten Glitch-Ästhetik und Interaktivität\, beeindruckt mit Projektionen im urbanen Raum und arbeitet als freischaffender Videodesigner für Oper und Tanz. Die Ursprünge seiner Projektionen liegen in seiner Arbeit als Visual Jockey (VJ). Die damit verbundene stilistische Vielfalt hat sich bis heute erhalten. In völlig unterschiedlichen Umgebungen und Kontexten entwickelt er zwangsläufig immer wieder neue Praktiken. Bekanntes durch den Einsatz von Visuals in ein neues Licht zu rücken und aus dem gewohnten Kontext zu lösen\, zeichnet ihn aus. So öffnet Jantzen spielerisch Zugänge für immer neue Publikumsgruppen.
URL:https://enjoyjazz.de/veranstaltung/trygve-seim-frode-haltli/
LOCATION:Christuskirche\, Werderplatz 17\, Mannheim\, Baden-Württemberg\, 68161\, Deutschland
CATEGORIES:Enjoy Jazz 2025
ATTACH;FMTTYPE=image/jpeg:https://enjoyjazz.de/wp-content/uploads/2024/12/Haltli-Seim-fotograf-Antonio-Armentano-1024x682-1.jpg
END:VEVENT
BEGIN:VEVENT
DTSTART;TZID=Europe/Berlin:20250215T200000
DTEND;TZID=Europe/Berlin:20250215T223000
DTSTAMP:20260421T111418
CREATED:20241217T101718Z
LAST-MODIFIED:20241217T145607Z
UID:10000327-1739649600-1739658600@enjoyjazz.de
SUMMARY:Anja Lechner Solo
DESCRIPTION:Anja Lechner ist ein Stammgast: Sie spielte hier mit dem Pianisten Francois Couturier\, mit dem jungen Klaviervirtuosen Raúl da Costa oder dem Bandoneonspieler Dino Saluzzi\, mit dem sie einige ihrer mehr als 30 Alben aufgenommen hat. Komponisten wie Arvo Pärt haben ihr filigrane Werke auf den Leib geschrieben. Fast wundert man sich\, dass erst jetzt ihre erste Solo-Aufnahme bei ECM erscheint – eingespielt in der Münchener Himmelfahrtskirche\, produziert von Manfred Eicher. \nWas ihr da gelingt\, ist meisterlich: Nicht nur lässt sie zwei von Bachs Suiten für Violoncello mit großer Unbeschwertheit und Raffinesse erklingen. Sie verbindet das Bach-Universum zudem mit zwei anderen Kosmen: jenem des Frühklassikers Carl Friedrich Abel und des Schotten Tobias Hume. Beide waren Meister auf der Viola da Gamba. Lechner überträgt die Stücke aufs Cello\, in ihrem Spiel aber denkt sie das alte Instrument mit. Man staune über die Leichtigkeit und innere Logik\, so schreibt Kristina Maidt-Zinke im Booklet\, „mit der hier drei musikalische Welten einander berührt haben.“ Aber nicht nur berühren sie sich – Lechner übersetzt sie in die Gegenwart. Die Friedenskirche bietet einen würdigen Rahmen für diese Solo-Offenbarung.
URL:https://enjoyjazz.de/veranstaltung/anja-lechner-solo/
LOCATION:Friedenskirche\, An der Tiefburg\, Heidelberg\, 69121\, Deutschland
CATEGORIES:Enjoy Jazz 2025
ATTACH;FMTTYPE=image/jpeg:https://enjoyjazz.de/wp-content/uploads/2024/12/2025_02_15_Anja-Lechner_c_Lisa_Franz_ECM_Records_web-Crop.jpg
END:VEVENT
END:VCALENDAR