BEGIN:VCALENDAR
VERSION:2.0
PRODID:-//Enjoy Jazz - ECPv6.15.20//NONSGML v1.0//EN
CALSCALE:GREGORIAN
METHOD:PUBLISH
X-ORIGINAL-URL:https://enjoyjazz.de
X-WR-CALDESC:Veranstaltungen für Enjoy Jazz
REFRESH-INTERVAL;VALUE=DURATION:PT1H
X-Robots-Tag:noindex
X-PUBLISHED-TTL:PT1H
BEGIN:VTIMEZONE
TZID:Europe/Berlin
BEGIN:DAYLIGHT
TZOFFSETFROM:+0100
TZOFFSETTO:+0200
TZNAME:CEST
DTSTART:20240331T010000
END:DAYLIGHT
BEGIN:STANDARD
TZOFFSETFROM:+0200
TZOFFSETTO:+0100
TZNAME:CET
DTSTART:20241027T010000
END:STANDARD
BEGIN:DAYLIGHT
TZOFFSETFROM:+0100
TZOFFSETTO:+0200
TZNAME:CEST
DTSTART:20250330T010000
END:DAYLIGHT
BEGIN:STANDARD
TZOFFSETFROM:+0200
TZOFFSETTO:+0100
TZNAME:CET
DTSTART:20251026T010000
END:STANDARD
BEGIN:DAYLIGHT
TZOFFSETFROM:+0100
TZOFFSETTO:+0200
TZNAME:CEST
DTSTART:20260329T010000
END:DAYLIGHT
BEGIN:STANDARD
TZOFFSETFROM:+0200
TZOFFSETTO:+0100
TZNAME:CET
DTSTART:20261025T010000
END:STANDARD
END:VTIMEZONE
BEGIN:VEVENT
DTSTART;TZID=Europe/Berlin:20250730T180000
DTEND;TZID=Europe/Berlin:20250730T230000
DTSTAMP:20260421T040845
CREATED:20250521T120116Z
LAST-MODIFIED:20250730T074149Z
UID:10000361-1753898400-1753916400@enjoyjazz.de
SUMMARY:Infinity Song & Skinshape
DESCRIPTION:Infinity Song [ab 19:15 Uhr] \nVier Geschwister\, deren Musik direkt in die Seele fließt. Mit ihrem aktuellen Album Metamorphosis Complete zeigen Abraham\, Angel\, Israel und Momo Boyd\, dass Soft Rock nicht nur lebendig\, sondern auch 2025 immernoch relevant sein kann. Verträumte Texte\, makellose Harmonien und eindringliche Gitarrenriffs lassen Erinnerungen an legendäre Bands der 70er-Jahre wachwerden und beweisen zugleich\, wie zeitlos echte musikalische Qualität ist. \nDas hat auch Jay-Z bemerkt und die Band direkt von der Straße weg auf sein Label Rocnation gesigned. \nAuftritte der Band in Europa waren bisher selten und wir sind mehr als froh\, dass sie auf ihrer Welttournee einen Zwischenstopp bei uns machen\, bevor es dann voraussichtlich bald in die ganz großen Hallen geht. \nSkinshape  [ab 20:45] \nSkinshape kommt nach einer ausverkaufent Show in Berlin für seine zweite Deutschlandshow überhaupt nach Heidelberg \nSeit 2014 veröffentlicht das Gründungsmitglied der Indie-Band Palace unter dem Pseudonym Skinshape ganze zehn Alben. (und wirklich alle 10 sind mehr als nur gut!) \nDer Sound von Skinshape ist eine Hommage an Funk\, Reggae\, Psychedelic Rock und afrikanische Musik mit Einflüssen aus der Library Music und dem Folk der 1960er und 1970er Jahre. Diese Mischung verleiht den Stücken des Briten eine zeitlose Wärme\, die nostalgisch und frisch zugleich klingt. Ob neue Stücke vom aktuellen Album »Another Side of Skinshape« oder Klassiker des Projekts: Die fünfköpfige Live-Band liefert ein Erlebnis\, das zum Tanzen einlädt und gleichzeitig Raum zum Träumen lässt. Psychedelisch trippelt man über das eine oder andere sphärische Gitarrenriff\, das wie ein Echo längst vergangener Zeiten klingt. \nEin Muss für Alle\, die musikalische Vielfalt und einen Hauch Vintage lieben!
URL:https://enjoyjazz.de/veranstaltung/infinity-song-skinshape/
LOCATION:Metropolink’s Commissary\, South Gettysburg Avenue 46\, Heidelberg\, Baden-Württemberg\, 69124\, Deutschland
ATTACH;FMTTYPE=image/jpeg:https://enjoyjazz.de/wp-content/uploads/2025/05/metropolink-skinshape-infinity-song1920x1080.jpg
END:VEVENT
END:VCALENDAR