BEGIN:VCALENDAR
VERSION:2.0
PRODID:-//Enjoy Jazz - ECPv6.15.20//NONSGML v1.0//EN
CALSCALE:GREGORIAN
METHOD:PUBLISH
X-ORIGINAL-URL:https://enjoyjazz.de
X-WR-CALDESC:Veranstaltungen für Enjoy Jazz
REFRESH-INTERVAL;VALUE=DURATION:PT1H
X-Robots-Tag:noindex
X-PUBLISHED-TTL:PT1H
BEGIN:VTIMEZONE
TZID:Europe/Berlin
BEGIN:DAYLIGHT
TZOFFSETFROM:+0100
TZOFFSETTO:+0200
TZNAME:CEST
DTSTART:20240331T010000
END:DAYLIGHT
BEGIN:STANDARD
TZOFFSETFROM:+0200
TZOFFSETTO:+0100
TZNAME:CET
DTSTART:20241027T010000
END:STANDARD
BEGIN:DAYLIGHT
TZOFFSETFROM:+0100
TZOFFSETTO:+0200
TZNAME:CEST
DTSTART:20250330T010000
END:DAYLIGHT
BEGIN:STANDARD
TZOFFSETFROM:+0200
TZOFFSETTO:+0100
TZNAME:CET
DTSTART:20251026T010000
END:STANDARD
BEGIN:DAYLIGHT
TZOFFSETFROM:+0100
TZOFFSETTO:+0200
TZNAME:CEST
DTSTART:20260329T010000
END:DAYLIGHT
BEGIN:STANDARD
TZOFFSETFROM:+0200
TZOFFSETTO:+0100
TZNAME:CET
DTSTART:20261025T010000
END:STANDARD
END:VTIMEZONE
BEGIN:VEVENT
DTSTART;TZID=Europe/Berlin:20250926T200000
DTEND;TZID=Europe/Berlin:20250926T220000
DTSTAMP:20260421T011355
CREATED:20250812T102025Z
LAST-MODIFIED:20251001T083038Z
UID:10000393-1758916800-1758924000@enjoyjazz.de
SUMMARY:Sophia Club: What bodies know
DESCRIPTION:Haben wir die Verbindung zu dem tiefen Wissen verloren\, das durch Bewegung und Musik entsteht? \nIn unserem hypervernetzten\, sprachgesättigten digitalen Alltag liegt der Gedanke nahe\, dass Worte der Schlüssel zum Wissen sind. Schließlich scheinen große Sprachmodelle wie ChatGPT auf merkwürdige Weise eine Welt zu kennen\, die sie nie erlebt haben. Doch Menschen haben ihre Kulturen und das Universum seit jeher dadurch verstanden\, dass sie sich als verkörperte Wesen durch die Welt bewegten. An diesem Abend erkunden wir das Wissen des Körpers – und wie Singen\, Tanzen und tiefes Zuhören es uns ermöglichen\, unsere Perspektiven auf das Leben zu erweitern. \nFür dieses musikalische und gedankliche Festmahl begrüßen wir Bernd Brabec\, Musikwissenschaftler und Anthropologe des Klangs; Ophelia Deroy\, Professorin für Neurowissenschaften und Philosophie; Tony Buck\, renommierter Perkussionist und Improvisator; sowie Magda Mayas\, gefeierte Pianistin und Komponistin. \nSprache: Englisch \nÜber den Sophia Club\nNach ausverkauften Veranstaltungen in New York\, London und Melbourne kommt der Sophia Club für einen besonderen Abend der „Live-Philosophie“ im Rahmen von Enjoy Jazz nach Heidelberg. \nPhilosophie geht alle etwas an – und der Sophia Club schafft einen Raum\, in dem Menschen zusammenkommen\, über große Fragen nachdenken und die tiefen Verbindungen zwischen Denken\, Emotionen und künstlerischem Ausdruck wertschätzen können. \nDer Sophia Club wird präsentiert von Aeon Media\, dem digitalen Herausgeber der Magazine Aeon und Psyche. \n  \nHave we lost touch with the deep knowing that comes through movement and music? \nIn our hyperconnected\, language-soaked digital lives it is easy to think that words are the key to knowledge. After all\, large language models like ChatGPT seem strangely capable of knowing a world they have never experienced. But humans have always understood their cultures and the cosmos by moving through the world as embodied beings. This evening we explore the knowing of the body and how singing\, dancing and deep listening enable us to expand our perspectives on life. We’re joined for this musical and conversational feast by Bernd Brabec\, musicologist and anthropologist of sound; Ophelia Deroy\, professor of neuroscience and philosophy; Tony Buck\, renowned percussionist and improviser; and Magda Mayas\, celebrated pianist and composer. \nAbout Sophia Club \nAfter sell-out shows across New York\, London and Melbourne\, the Sophia Club travels to Heidelberg for a special night of Live Philosophy at Enjoy Jazz. \nEveryone has a stake in philosophy; and the Sophia Club creates a space for people to come together\, ponder big questions and appreciate the rich connections between thought\, emotions and artistic expression. The Sophia Club is presented by Aeon Media\, digital publishers of Aeon and Psyche magazines. \nhttps://sophiaclub.co/ \nhttps://psyche.co/ \nhttps://aeonmedia.co/
URL:https://enjoyjazz.de/veranstaltung/sophia-club-what-bodies-know/
LOCATION:Betriebswerk\, Am Bahnbetriebswerk 5\, Heidelberg\, Baden-Württemberg\, 69115\, Deutschland
ATTACH;FMTTYPE=image/jpeg:https://enjoyjazz.de/wp-content/uploads/2025/08/v2-event-SAAM-1972.81_1-credit-Stuart-Davis-Abstraction-1937-SAAM.jpg
END:VEVENT
END:VCALENDAR