BEGIN:VCALENDAR
VERSION:2.0
PRODID:-//Enjoy Jazz - ECPv6.15.20//NONSGML v1.0//EN
CALSCALE:GREGORIAN
METHOD:PUBLISH
X-ORIGINAL-URL:https://enjoyjazz.de
X-WR-CALDESC:Veranstaltungen für Enjoy Jazz
REFRESH-INTERVAL;VALUE=DURATION:PT1H
X-Robots-Tag:noindex
X-PUBLISHED-TTL:PT1H
BEGIN:VTIMEZONE
TZID:Europe/Berlin
BEGIN:DAYLIGHT
TZOFFSETFROM:+0100
TZOFFSETTO:+0200
TZNAME:CEST
DTSTART:20250330T010000
END:DAYLIGHT
BEGIN:STANDARD
TZOFFSETFROM:+0200
TZOFFSETTO:+0100
TZNAME:CET
DTSTART:20251026T010000
END:STANDARD
BEGIN:DAYLIGHT
TZOFFSETFROM:+0100
TZOFFSETTO:+0200
TZNAME:CEST
DTSTART:20260329T010000
END:DAYLIGHT
BEGIN:STANDARD
TZOFFSETFROM:+0200
TZOFFSETTO:+0100
TZNAME:CET
DTSTART:20261025T010000
END:STANDARD
BEGIN:DAYLIGHT
TZOFFSETFROM:+0100
TZOFFSETTO:+0200
TZNAME:CEST
DTSTART:20270328T010000
END:DAYLIGHT
BEGIN:STANDARD
TZOFFSETFROM:+0200
TZOFFSETTO:+0100
TZNAME:CET
DTSTART:20271031T010000
END:STANDARD
END:VTIMEZONE
BEGIN:VEVENT
DTSTART;TZID=Europe/Berlin:20260627T203000
DTEND;TZID=Europe/Berlin:20260627T223000
DTSTAMP:20260420T173558
CREATED:20251212T090039Z
LAST-MODIFIED:20251212T100942Z
UID:10000407-1782592200-1782599400@enjoyjazz.de
SUMMARY:Ezra Collective
DESCRIPTION:Ezra Collective sind mehr als eine Band – sie sind eine musikalische Bewegung\, die das Fundament des modernen britischen Sounds neu definiert. Mit virtuoser Leichtigkeit verweben sie Jazz\, Afrobeat\, Reggae\, Hip-Hop und Funk zu einem mitreißenden Stil\, der Genregrenzen sprengt und eine neue Generation für improvisierte Musik begeistert. Ihr rasanter Aufstieg ist ebenso einzigartig wie historisch: Als erste Jazzband überhaupt gewannen sie 2023 den Mercury Prize\, später folgten Auszeichnungen wie BRIT Group of the Year\, der Rolling Stone UK Group Award sowie der AIM Award für God Gave Me Feet for Dancing. Doch ihre Bedeutung reicht weit über Trophäen hinaus. Barack Obama nahm No Confusion in seine jährliche Lieblingsliste auf\, die Wembley Arena füllten sie als erste Jazzband bis auf den letzten Platz\, und selbst die Sydney Opera House Concert Hall war restlos ausverkauft. Ezra Collective stehen für musikalische Exzellenz\, kulturelle Offenheit und eine kreative Energie\, die weltweit Resonanz findet.
URL:https://enjoyjazz.de/veranstaltung/ezra-collective/
LOCATION:Metropolink’s Commissary\, South Gettysburg Avenue 46\, Heidelberg\, Baden-Württemberg\, 69124\, Deutschland
CATEGORIES:Enjoy Jazz 2026
ATTACH;FMTTYPE=image/jpeg:https://enjoyjazz.de/wp-content/uploads/2025/12/GGMFFD-CREDIT_-YOUT-1-scaled.jpg
END:VEVENT
END:VCALENDAR