BEGIN:VCALENDAR
VERSION:2.0
PRODID:-//Enjoy Jazz - ECPv6.15.20//NONSGML v1.0//EN
CALSCALE:GREGORIAN
METHOD:PUBLISH
X-WR-CALNAME:Enjoy Jazz
X-ORIGINAL-URL:https://enjoyjazz.de
X-WR-CALDESC:Veranstaltungen für Enjoy Jazz
REFRESH-INTERVAL;VALUE=DURATION:PT1H
X-Robots-Tag:noindex
X-PUBLISHED-TTL:PT1H
BEGIN:VTIMEZONE
TZID:Europe/Berlin
BEGIN:DAYLIGHT
TZOFFSETFROM:+0100
TZOFFSETTO:+0200
TZNAME:CEST
DTSTART:20250330T010000
END:DAYLIGHT
BEGIN:STANDARD
TZOFFSETFROM:+0200
TZOFFSETTO:+0100
TZNAME:CET
DTSTART:20251026T010000
END:STANDARD
BEGIN:DAYLIGHT
TZOFFSETFROM:+0100
TZOFFSETTO:+0200
TZNAME:CEST
DTSTART:20260329T010000
END:DAYLIGHT
BEGIN:STANDARD
TZOFFSETFROM:+0200
TZOFFSETTO:+0100
TZNAME:CET
DTSTART:20261025T010000
END:STANDARD
BEGIN:DAYLIGHT
TZOFFSETFROM:+0100
TZOFFSETTO:+0200
TZNAME:CEST
DTSTART:20270328T010000
END:DAYLIGHT
BEGIN:STANDARD
TZOFFSETFROM:+0200
TZOFFSETTO:+0100
TZNAME:CET
DTSTART:20271031T010000
END:STANDARD
END:VTIMEZONE
BEGIN:VEVENT
DTSTART;TZID=Europe/Berlin:20261210T200000
DTEND;TZID=Europe/Berlin:20261210T213000
DTSTAMP:20260421T035800
CREATED:20251111T111810Z
LAST-MODIFIED:20251111T135426Z
UID:10000402-1796932800-1796938200@enjoyjazz.de
SUMMARY:Avishai Cohen Trio
DESCRIPTION:In den letzten 30 Jahren hat sich der international gefeierte Bassist\, Sänger und Komponist Avishai Cohen zu einer der prägendsten Figuren des zeitgenössischen Jazz entwickelt – eine wahre musikalische Ikone\, dessen Werk sich neben einigen der legendärsten Namen des Genres und darüber hinaus behaupten kann. Cohens Originalkompositionen und Arrangements spiegeln ein weitläufiges musikalisches Universum wider\, in dem verschiedene Traditionen\, Kulturen\, Sprachen und Stile miteinander verschmelzen. Seine Musik verbindet nahtlos hebräische und Ladino-Folklore mit pulsierendem\, originellem zeitgenössischem Jazz und schafft so einen Sound\, der sowohl tief verwurzelt als auch innovativ ist. Heute wird er als Komponist und musikalischer Innovator ohne Grenzen gefeiert. Getreu seiner Art setzt Cohen auch in Ludwigshafen seine Tradition fort\, aufstrebende Talente zu fördern und zu entdecken\, und tritt mit den herausragenden jungen Musikern Itay Simhovich (Klavier) und Eviatar Slivnik (Schlagzeug) auf.
URL:https://enjoyjazz.de/veranstaltung/avishai-cohen-trio/
LOCATION:BASF Feierabendhaus\, Leuschnerstraße 47\, Ludwigshafen\, 67063\, Deutschland
CATEGORIES:BASF,Encore Programm,Enjoy Jazz 2026
ATTACH;FMTTYPE=image/jpeg:https://enjoyjazz.de/wp-content/uploads/2025/11/Avishai-Cohen-New-Trio-credit-Peter-Vit-2-small-scaled.jpg
END:VEVENT
END:VCALENDAR